BEGIN:VCALENDAR
VERSION:2.0
PRODID:-//River Pointe Golf Course - ECPv6.15.20//NONSGML v1.0//EN
CALSCALE:GREGORIAN
METHOD:PUBLISH
X-WR-CALNAME:River Pointe Golf Course
X-ORIGINAL-URL:https://riverpointegolfcourse.com
X-WR-CALDESC:Events for River Pointe Golf Course
REFRESH-INTERVAL;VALUE=DURATION:PT1H
X-Robots-Tag:noindex
X-PUBLISHED-TTL:PT1H
BEGIN:VTIMEZONE
TZID:America/Toronto
BEGIN:DAYLIGHT
TZOFFSETFROM:-0500
TZOFFSETTO:-0400
TZNAME:EDT
DTSTART:20190310T070000
END:DAYLIGHT
BEGIN:STANDARD
TZOFFSETFROM:-0400
TZOFFSETTO:-0500
TZNAME:EST
DTSTART:20191103T060000
END:STANDARD
BEGIN:DAYLIGHT
TZOFFSETFROM:-0500
TZOFFSETTO:-0400
TZNAME:EDT
DTSTART:20200308T070000
END:DAYLIGHT
BEGIN:STANDARD
TZOFFSETFROM:-0400
TZOFFSETTO:-0500
TZNAME:EST
DTSTART:20201101T060000
END:STANDARD
BEGIN:DAYLIGHT
TZOFFSETFROM:-0500
TZOFFSETTO:-0400
TZNAME:EDT
DTSTART:20210314T070000
END:DAYLIGHT
BEGIN:STANDARD
TZOFFSETFROM:-0400
TZOFFSETTO:-0500
TZNAME:EST
DTSTART:20211107T060000
END:STANDARD
END:VTIMEZONE
BEGIN:VEVENT
DTSTART;TZID=America/Toronto:20200305T173000
DTEND;TZID=America/Toronto:20200305T193000
DTSTAMP:20260420T082026
CREATED:20200228T165143Z
LAST-MODIFIED:20200228T165143Z
UID:5017-1583429400-1583436600@riverpointegolfcourse.com
SUMMARY:Fried Chicken Dinner
DESCRIPTION:Enjoy a delicious and hearty meal with us next Thursday.\nReservations will go fast\, so be sure to call ahead early!\n\nThursday\, March 5 | 5:30-7:30PM | $11.95 Per Person\n\nFried Chicken\nwith mashed potatoes and gravy\, corn\, field peas\, rolls\, dessert and tea\n\nAll are welcome! Dinner is open to the public.\nCALL TO MAKE YOUR RESERVATION (229) 883-1796z
URL:https://riverpointegolfcourse.com/event/fried-chicken-dinner/
ATTACH;FMTTYPE=image/png:https://riverpointegolfcourse.com/wp-content/uploads/2020/02/River-Pointe-_-Fried-Chicken-Dinner.png
END:VEVENT
BEGIN:VEVENT
DTSTART;TZID=America/Toronto:20200208T183000
DTEND;TZID=America/Toronto:20200208T200000
DTSTAMP:20260420T082026
CREATED:20200131T215029Z
LAST-MODIFIED:20200131T215218Z
UID:4936-1581186600-1581192000@riverpointegolfcourse.com
SUMMARY:Valentine's Dinner
DESCRIPTION:Treat your valentine to a special evening at River Pointe! \n\n STEAK DINNER $17.95 PER PERSON \n\nRESERVATIONS REQUIRED\nCall to make yours! (229) 883-1796\n\nAfter dinner\, continue the fun with Karaoke!\nKARAOKE 8PM-11PM
URL:https://riverpointegolfcourse.com/event/valentines-dinner/
ATTACH;FMTTYPE=image/png:https://riverpointegolfcourse.com/wp-content/uploads/2020/01/River-Pointe-_-Valentines-Dinner.png
END:VEVENT
BEGIN:VEVENT
DTSTART;VALUE=DATE:20200207
DTEND;VALUE=DATE:20200215
DTSTAMP:20260420T082026
CREATED:20200206T165015Z
LAST-MODIFIED:20200206T165015Z
UID:4962-1581033600-1581724799@riverpointegolfcourse.com
SUMMARY:Valentine's Day Online Sale
DESCRIPTION:Spread the love this Valentine’s Day!\n\n💕 Spend the day together! Get two 18 holes w/ cart\, a warm-up bucket of balls and a $10 food & beverage credit all for $56!\n\n💕 The gift of choice is also a great idea as well! We have gift certificates available for purchase any time in our online store.\n\nSale ends 2/14. Shop online here!
URL:https://riverpointegolfcourse.com/event/valentines-day-online-sale/
ATTACH;FMTTYPE=image/png:https://riverpointegolfcourse.com/wp-content/uploads/2020/02/River-Pointe-_-Valentines-Day-3.png
END:VEVENT
END:VCALENDAR